BEGIN:VCALENDAR
VERSION:2.0
PRODID:-//FFV - ECPv6.11.2.1//NONSGML v1.0//EN
CALSCALE:GREGORIAN
METHOD:PUBLISH
X-WR-CALNAME:FFV
X-ORIGINAL-URL:https://www.flfamily.org
X-WR-CALDESC:Events for FFV
REFRESH-INTERVAL;VALUE=DURATION:PT1H
X-Robots-Tag:noindex
X-PUBLISHED-TTL:PT1H
BEGIN:VTIMEZONE
TZID:America/New_York
BEGIN:DAYLIGHT
TZOFFSETFROM:-0500
TZOFFSETTO:-0400
TZNAME:EDT
DTSTART:20190310T070000
END:DAYLIGHT
BEGIN:STANDARD
TZOFFSETFROM:-0400
TZOFFSETTO:-0500
TZNAME:EST
DTSTART:20191103T060000
END:STANDARD
END:VTIMEZONE
BEGIN:VEVENT
DTSTART;TZID=America/New_York:20190328T073000
DTEND;TZID=America/New_York:20190328T103000
DTSTAMP:20260424T034457
CREATED:20190304T154518Z
LAST-MODIFIED:20190304T165954Z
UID:8263-1553758200-1553769000@www.flfamily.org
SUMMARY:151 Treasure Coast Christian Alliance Breakfast 200
DESCRIPTION:151 Treasure Coast Christian Alliance is hosting a Breakfast 200 on Thursday\, March 28\, 2019 at 7:30 AM at the Port St. Lucie Civic Center – Ruby Hall. Tickets $10.  \nFFPC President John Stemberger will be a special guest speaker at this event. \nContact Christopher Fogel for tickets or additional details.\nEmail: cfogal (at) cricpa.com\nPhone: 772-461-5511
URL:https://www.flfamily.org/events/treasure-coast-christian-alliance-breakfast/
LOCATION:Port St. Lucie Civic Center – Ruby Hall\, 9221 S.E. Civic Center Place\, Port St. Lucie\, FL\, 34952
CATEGORIES:Special Event
ATTACH;FMTTYPE=image/png:https://www.flfamily.org/wp-content/uploads/2019/03/image001-1.png
ORGANIZER;CN="151 Treasure Coast Christian Alliance":MAILTO:cfogal@cricpa.com
END:VEVENT
BEGIN:VEVENT
DTSTART;VALUE=DATE:20190318
DTEND;VALUE=DATE:20190320
DTSTAMP:20260424T034457
CREATED:20190125T214724Z
LAST-MODIFIED:20190226T194949Z
UID:8216-1552867200-1553039999@www.flfamily.org
SUMMARY:Pro-Family Days 2019
DESCRIPTION:  \nJoin us this year in Tallahassee for our 6th Annual Pro-Family Days at the Capitol March 18-19\, 2019! \n  \nThis year’s theme is “Celebrating Life\, Protecting Children” and features Ken Connor as keynote speaker. \nREGISTER NOW \nPro-Family Days 2019 Printable Flyer (PDF) \n\nEvent Information: \nPro-Life\, Pro-Family Days at the Capitol is an opportunity to get involved and meet like-minded people while working together to fight for changes in Tallahassee. During this event you will: \n \nLearn how bills are passed in Florida and how you can best impact the legislative process\nAttend a legislative training on the top pro-life and pro-family issues of today and learn which issues will be addressed during the 2019 Florida Legislative Session\nEnjoy dinner with other like-minded individuals from across the state and Keynote speaker Ken Connor\nLegislative Prayer Breakfast with testimony from lawmakers who are champions for our issues\nScheduled meetings with your State Legislators to lobby for our pro-life and pro-family issues\nReception Prior to Dinner with Speakers and Special guests\nBe inspired by Christian leaders\, elected officials\, and activists\n\n\nLocation:\n \nDonald E Tucker Civic Center\, Ballroom\n504 W. Pensacola St.\nTallahassee\, FL 32304 \nPricing:\n \n Discounted Early Bird pricing valid through February 28th.\nFull 2-day event – $65/$75\nPastor or Volunteer 2-day event – $35/$50 – Contact us for volunteer registration\nStudent Groups 2-day event – $55/$65 – Contact us to get group pricing\nMonday Dinner Only – $35/$50\nPrayer Breakfast Only – $25/$35 \nAgenda:\n \nMonday\, March 18\, 2019 \n2:00pm – 6:00pm Registration Open\, Civic Center Foyer\n3:00pm – 5:00pm Lobby Training\, Civic Center Ballroom\n5:00pm – 6:00pm Reception\, Civic Center Foyer\n6:00pm – 8:30pm Dinner\, Civic Center Ballroom \nTuesday\, March 19\, 2019 \n6:30am – 8:00am Registration Open\, Civic Center Foyer\n7:00am – 8:45am Legislative Prayer Breakfast\, Civic Center Ballroom\n9:00am – 12:00pm Meetings with Legislators\, Capitol\n12:00pm – 1:00pm Lunch on your own\n1:00pm- 2:00pm Wrap-up\, to be determined \nHelp us spread the word: \nPrintable event brochure (PDF) \nFacebook event to invite your friends \nUse hashtags #FloridaFPC and #ProLifeDays to share photos with your friends during the event! \nHotel Information: \nWe do not have any hotel blocks reserved for this event\, however\, we have pulled together a list of hotels with availability that are close to the Capitol and are well rated in a variety of budgets. We have free parking at the Civic Center\, so do not worry if you are not within walking distance. \nHotel Options- Prices and Availability as of 2/25\nHere are some that currently have rooms\, and their current price and distance to the Civic Center: \n \nWithin Walking Distance – \nHampton Inn – $266 currently – .3 miles to Civic Center – Does not have free parking – 9.4 guest rating \n \nFurther Out – All Have Free Parking (Free Parking Also Available at the Civic Center)-\nHoliday Inn – $197 currently – 2.6 miles to Civic Center – 9.6 guest rating \nSpring Hill Suites – $202 currently – 3.3 miles to Civic Center – 9.2 guest rating\nBest Western Plus – $179 currently – 3.5 miles to Civic Center – 9.0 guest rating\nFairfield Inn and Suites – $244 currently – 3.7 miles to Civic Center – 8.8 guest rating\nCandlewood Suites – $162 currently – 3.0 miles to Civic Center – 8.4 guest rating\nCountry Inn & Suites – $189 currently- 3.5 miles to Civic Center – 7.6 guest rating \n \nBudget-Friendly-\nBest Western – $124 currently – 2.5 miles to Civic Center –  7.2 guest rating\nBaymont – $54 currently – 3.6 miles to Civic Center – 6.8 rating from guests\nSuburban Extended Stay – $70 currently – 2.4 miles to Civic Center – 6.8 guest rating\nMicrotel – $60 currently – 3.7 miles to Civic Center – 6.6 guest rating\nHoward Johnson – $58 currently –  2.9 miles to Civic Center – 6.6 guest rating\nEcono Lodge Tallahassee – $80 Currently – 1.1 miles to Civic Center – 6.4 guest rating
URL:https://www.flfamily.org/events/pro-family-days-2019/
LOCATION:Donald L. Tucker Civic Center\, 505 W Pensacola St\, Tallahassee\, FL\, 32301\, United States
CATEGORIES:Sponsored Event
ORGANIZER;CN="Florida Family Policy Council":MAILTO:info@flfamily.org
END:VEVENT
BEGIN:VEVENT
DTSTART;TZID=America/New_York:20190304T080000
DTEND;TZID=America/New_York:20190304T170000
DTSTAMP:20260424T034457
CREATED:20190304T160421Z
LAST-MODIFIED:20190304T160803Z
UID:8268-1551686400-1551718800@www.flfamily.org
SUMMARY:WorldVIEW Weekend with Trinity Community Church
DESCRIPTION:Join us for this exciting apologetics conference May 10-11 at Trinity Community Church in Titusville!  \nFFPC President John Stemberger will be featured as a special speaker Saturday May 11 on the topic of “The Bible and The Modern-Day Court Room” from a lawyer’s perspective and will also be a panelist at the event. \nAdditional speakers include:\n \nFor more information on the conference or to get your tickets\, visit: http://www.trinityfla.org/conferences
URL:https://www.flfamily.org/events/worldview-weekend-with-trinity-community-church/
LOCATION:Trinity Community Church\, 6750 S. Washington Avenue\, Titusville\, FL\, 32780\, United States
CATEGORIES:Special Event
ATTACH;FMTTYPE=image/jpeg:https://www.flfamily.org/wp-content/uploads/2019/03/TCCGraphics-WVCFrontFlyer.001.jpeg
ORGANIZER;CN="Trinity Community Church":MAILTO:trinityflaoffice@gmail.com
END:VEVENT
END:VCALENDAR